BEGIN:VCALENDAR
VERSION:2.0
PRODID:-//Føroya Styrkisamband - ECPv6.15.12.2//NONSGML v1.0//EN
CALSCALE:GREGORIAN
METHOD:PUBLISH
X-ORIGINAL-URL:https://fss.fo
X-WR-CALDESC:Events for Føroya Styrkisamband
REFRESH-INTERVAL;VALUE=DURATION:PT1H
X-Robots-Tag:noindex
X-PUBLISHED-TTL:PT1H
BEGIN:VTIMEZONE
TZID:Europe/Copenhagen
BEGIN:DAYLIGHT
TZOFFSETFROM:+0100
TZOFFSETTO:+0200
TZNAME:CEST
DTSTART:20220327T010000
END:DAYLIGHT
BEGIN:STANDARD
TZOFFSETFROM:+0200
TZOFFSETTO:+0100
TZNAME:CET
DTSTART:20221030T010000
END:STANDARD
BEGIN:DAYLIGHT
TZOFFSETFROM:+0100
TZOFFSETTO:+0200
TZNAME:CEST
DTSTART:20230326T010000
END:DAYLIGHT
BEGIN:STANDARD
TZOFFSETFROM:+0200
TZOFFSETTO:+0100
TZNAME:CET
DTSTART:20231029T010000
END:STANDARD
BEGIN:DAYLIGHT
TZOFFSETFROM:+0100
TZOFFSETTO:+0200
TZNAME:CEST
DTSTART:20240331T010000
END:DAYLIGHT
BEGIN:STANDARD
TZOFFSETFROM:+0200
TZOFFSETTO:+0100
TZNAME:CET
DTSTART:20241027T010000
END:STANDARD
END:VTIMEZONE
BEGIN:VTIMEZONE
TZID:Atlantic/Faroe
BEGIN:DAYLIGHT
TZOFFSETFROM:+0000
TZOFFSETTO:+0100
TZNAME:WEST
DTSTART:20220327T010000
END:DAYLIGHT
BEGIN:STANDARD
TZOFFSETFROM:+0100
TZOFFSETTO:+0000
TZNAME:WET
DTSTART:20221030T010000
END:STANDARD
BEGIN:DAYLIGHT
TZOFFSETFROM:+0000
TZOFFSETTO:+0100
TZNAME:WEST
DTSTART:20230326T010000
END:DAYLIGHT
BEGIN:STANDARD
TZOFFSETFROM:+0100
TZOFFSETTO:+0000
TZNAME:WET
DTSTART:20231029T010000
END:STANDARD
BEGIN:DAYLIGHT
TZOFFSETFROM:+0000
TZOFFSETTO:+0100
TZNAME:WEST
DTSTART:20240331T010000
END:DAYLIGHT
BEGIN:STANDARD
TZOFFSETFROM:+0100
TZOFFSETTO:+0000
TZNAME:WET
DTSTART:20241027T010000
END:STANDARD
END:VTIMEZONE
BEGIN:VEVENT
DTSTART;VALUE=DATE:20231125
DTEND;VALUE=DATE:20231126
DTSTAMP:20260424T041726
CREATED:20230123T013830Z
LAST-MODIFIED:20230613T212556Z
UID:2148-1700870400-1700956799@fss.fo
SUMMARY:XL Cup – Vektlyfting
DESCRIPTION:
URL:https://fss.fo/kalendari/xl-cup-vektlyfting/
LOCATION:Atlas Sportcenter\, Industrivej 27\, Slagelse\, 4200\, Denmark
CATEGORIES:Vektlyfting
END:VEVENT
BEGIN:VEVENT
DTSTART;VALUE=DATE:20231110
DTEND;VALUE=DATE:20231113
DTSTAMP:20260424T041726
CREATED:20230123T013805Z
LAST-MODIFIED:20230613T212548Z
UID:2147-1699574400-1699833599@fss.fo
SUMMARY:NM Ungdom/Junior – Vektlyfting
DESCRIPTION:
URL:https://fss.fo/kalendari/nm-ungdom-junior-vektlyfting/
LOCATION:Rovaniemi\, Finland\, Rovaniemi\, Finland
CATEGORIES:Vektlyfting
END:VEVENT
BEGIN:VEVENT
DTSTART;VALUE=DATE:20231104
DTEND;VALUE=DATE:20231105
DTSTAMP:20260424T041726
CREATED:20230123T013212Z
LAST-MODIFIED:20230613T212544Z
UID:2146-1699056000-1699142399@fss.fo
SUMMARY:Øst Mesterskaberne Senior – Vektlyfting
DESCRIPTION:
URL:https://fss.fo/kalendari/ost-mesterskaberne-senior-vektlyfting/
CATEGORIES:Vektlyfting
END:VEVENT
BEGIN:VEVENT
DTSTART;VALUE=DATE:20231028
DTEND;VALUE=DATE:20231029
DTSTAMP:20260424T041726
CREATED:20230123T013624Z
LAST-MODIFIED:20230613T212540Z
UID:2145-1698451200-1698537599@fss.fo
SUMMARY:Øst Mesterskaberne Ungdom/Junior – Vektlyfting
DESCRIPTION:
URL:https://fss.fo/kalendari/ost-mesterskaberne-ungdom-junior-vektlyfting/
LOCATION:AK Viking\, Ved Diget 25\, Keypmannahavn\, Kastrup\, Denmark
CATEGORIES:Vektlyfting
END:VEVENT
BEGIN:VEVENT
DTSTART;VALUE=DATE:20231027
DTEND;VALUE=DATE:20231030
DTSTAMP:20260424T041726
CREATED:20230123T012948Z
LAST-MODIFIED:20230613T212536Z
UID:2144-1698364800-1698623999@fss.fo
SUMMARY:NM Senior 2023 – Vektlyfting
DESCRIPTION:
URL:https://fss.fo/kalendari/nm-senior-2023-vektlyfting/
LOCATION:Landskrona\, Svøriki
CATEGORIES:Vektlyfting
END:VEVENT
BEGIN:VEVENT
DTSTART;VALUE=DATE:20231014
DTEND;VALUE=DATE:20231015
DTSTAMP:20260424T041726
CREATED:20230123T012314Z
LAST-MODIFIED:20230613T212531Z
UID:2143-1697241600-1697327999@fss.fo
SUMMARY:Øst Masters – Vektlyfting
DESCRIPTION:
URL:https://fss.fo/kalendari/ost-masters-vektlyfting/
CATEGORIES:Vektlyfting
END:VEVENT
BEGIN:VEVENT
DTSTART;VALUE=DATE:20230930
DTEND;VALUE=DATE:20231001
DTSTAMP:20260424T041726
CREATED:20230123T012509Z
LAST-MODIFIED:20230613T212528Z
UID:2142-1696032000-1696118399@fss.fo
SUMMARY:Øst B-Mesterskaber – Vektlyfting
DESCRIPTION:
URL:https://fss.fo/kalendari/ost-b-mesterskaber-vektlyfting/
CATEGORIES:Vektlyfting
END:VEVENT
BEGIN:VEVENT
DTSTART;VALUE=DATE:20230902
DTEND;VALUE=DATE:20230918
DTSTAMP:20260424T041726
CREATED:20230123T015946Z
LAST-MODIFIED:20230613T212410Z
UID:2169-1693612800-1694995199@fss.fo
SUMMARY:HM Senior – Vektlyfting
DESCRIPTION:
URL:https://fss.fo/kalendari/hm-senior-vektlyfting/
CATEGORIES:Vektlyfting
END:VEVENT
BEGIN:VEVENT
DTSTART;VALUE=DATE:20230820
DTEND;VALUE=DATE:20230829
DTSTAMP:20260424T041726
CREATED:20230123T020206Z
LAST-MODIFIED:20230613T211811Z
UID:2171-1692489600-1693267199@fss.fo
SUMMARY:HM Masters – Vektlyfting
DESCRIPTION:
URL:https://fss.fo/kalendari/hm-masters-vektlyfting/
LOCATION:Pólandi\, Poland
CATEGORIES:Vektlyfting
END:VEVENT
BEGIN:VEVENT
DTSTART;TZID=Atlantic/Faroe:20230727T180000
DTEND;TZID=Atlantic/Faroe:20230727T210000
DTSTAMP:20260424T041726
CREATED:20230123T020308Z
LAST-MODIFIED:20230613T211547Z
UID:2172-1690480800-1690491600@fss.fo
SUMMARY:Ólavsøkustevnan – Vektlyfting
DESCRIPTION:
URL:https://fss.fo/kalendari/olavsokustevnan-vektlyfting/
CATEGORIES:Vektlyfting
ORGANIZER;CN="Styrkisamband F%C3%B8royar":MAILTO:nam@styrkisamband.fo
END:VEVENT
BEGIN:VEVENT
DTSTART;VALUE=DATE:20230724
DTEND;VALUE=DATE:20230804
DTSTAMP:20260424T041726
CREATED:20230123T020101Z
LAST-MODIFIED:20230613T211507Z
UID:2170-1690156800-1691107199@fss.fo
SUMMARY:EM Junior/U23 – Vektlyfting
DESCRIPTION:
URL:https://fss.fo/kalendari/em-junior-u23-vektlyfting/
LOCATION:Bukarest\, Rumeniia\, Romania
CATEGORIES:Vektlyfting
END:VEVENT
END:VCALENDAR